BEGIN:VCALENDAR
VERSION:2.0
PRODID:-//Krice Krace - ECPv4.7.4//NONSGML v1.0//EN
CALSCALE:GREGORIAN
METHOD:PUBLISH
X-WR-CALNAME:Krice Krace
X-ORIGINAL-URL:https://kricekrace.com
X-WR-CALDESC:Events for Krice Krace
BEGIN:VEVENT
DTSTART;TZID=UTC+1:20260306T173000
DTEND;TZID=UTC+1:20260306T181000
DTSTAMP:20260424T191346
CREATED:20260302T132913Z
LAST-MODIFIED:20260302T132913Z
UID:4223-1772818200-1772820600@kricekrace.com
SUMMARY:BOLHA\, Matjaž Pikalo
DESCRIPTION:Koncept\, režija in izvedba: Matjaž Pikalo\nBolha je levček z imenom Oli\, a ker je bil ob rojstvu še manjši od polha\, ga kličejo Bolha. Njegovo zgodbo od krdela do naslova svetovnega prvaka v nogometu spremljamo skozi uglasbene pesmi in lutko levčka\, sogovornika. Topla pripoved o razvoju glavnega junaka\, ki svojo šibkost\, majhno rast\, s spretnostjo in iznajdljivostjo spremeni v moč.\nUglasbe4na poezija\, koncert z lutko in žogo\, traja 40 minut. Primerno za vse od 3. leta dalje.  \n
URL:https://kricekrace.com/dogodek/bolha-matjaz-pikalo/
LOCATION:Krice Krace hiša\, Tomšičeva Ulica 14\, Kranj
ATTACH;FMTTYPE=image/jpeg:https://kricekrace.com/wp-content/uploads/2026/03/MATJAZ-PIKALO.jpg
ORGANIZER;CN="Zveza%20ustvarjalnih%20dru%C5%A1tev%20Kranj":MAILTO:kricekrace@t-2.net
END:VEVENT
END:VCALENDAR