BEGIN:VCALENDAR
VERSION:2.0
PRODID:-//Krice Krace - ECPv4.7.4//NONSGML v1.0//EN
CALSCALE:GREGORIAN
METHOD:PUBLISH
X-WR-CALNAME:Krice Krace
X-ORIGINAL-URL:https://kricekrace.com
X-WR-CALDESC:Events for Krice Krace
BEGIN:VEVENT
DTSTART;TZID=UTC+1:20260207T100000
DTEND;TZID=UTC+1:20260207T110000
DTSTAMP:20260424T205948
CREATED:20260123T150816Z
LAST-MODIFIED:20260125T113856Z
UID:4193-1770458400-1770462000@kricekrace.com
SUMMARY:MOJCA POKRAJCULJA\, Kaličopkovo gledališče
DESCRIPTION:Sobotna matineja že 32. sezona.\nPo ljudski pripovedki priredila Natalija Herlec\nRežija in izdelava lutk: Natalija Herlec – Besedila pesmi: Mojca Pavlič Drnovšek – Besedilo v verzih: Bojan Pretnar – Glasba: Mare Završnik\nIgrata: Mojca Pavlič Drnovšek in Bojan Pretnar\nMojca Pokrajculja pometa in najde krajcar. Le kaj bi si zanj kupila? Orglice ali kar kolo. Mogoče pa pisker? Takega rdečega\, z belimi pikami\, pod katerega se varno skrije pred temo in mrazom. V pisker pa bi radi še premraženi lisica\, volk\, medved in zajec. Ko povedo\, kaj vse znajo\, jih Mojca Pokrajculja prijazno povabi k sebi. Naslednji dan gredo vsi na delo. Zajec vrtnari\, medved čebelari\, lisica Mojci pomaga čistiti pisker\, volk čuvaj pa odganja vsiljivce. Po delu zaplešejo in zapojejo\, kako se s skupnimi močmi res veliko naredi. Ponoči pa seveda nekdo poliže med.\nPredstava traja 40 minut\, za vse od 2. leta dalje.\nFoto: Bojan Pretnar \n
URL:https://kricekrace.com/dogodek/mojca-pokrajculja-kalicopkovo-gledalisce/
LOCATION:Prešernovo gledališče Kranj\, Glavni trg 6\, Kranj\, 4000
ATTACH;FMTTYPE=image/jpeg:https://kricekrace.com/wp-content/uploads/2025/09/M.-Pokrajculja-e1758392821140.jpg
ORGANIZER;CN="Zveza%20ustvarjalnih%20dru%C5%A1tev%20Kranj":MAILTO:kricekrace@t-2.net
END:VEVENT
END:VCALENDAR