BEGIN:VCALENDAR
VERSION:2.0
PRODID:-//Krice Krace - ECPv4.7.4//NONSGML v1.0//EN
CALSCALE:GREGORIAN
METHOD:PUBLISH
X-WR-CALNAME:Krice Krace
X-ORIGINAL-URL:https://kricekrace.com
X-WR-CALDESC:Events for Krice Krace
BEGIN:VEVENT
DTSTART;TZID=UTC+1:20260208T100000
DTEND;TZID=UTC+1:20260208T160000
DTSTAMP:20260424T211356
CREATED:20260125T120803Z
LAST-MODIFIED:20260125T120803Z
UID:4207-1770544800-1770566400@kricekrace.com
SUMMARY:PREŠEREN DAN V KRACAH
DESCRIPTION:Krice krace hiša bo odprta za vse obiskovalce\, ki si lahko ogledajo trenutno razstavo plakatov Andreja Štularja in naše hišne lutke s katerimi se lahko tudi poigrajo in preizkusijo v animaciji.\nNa »zimskem« vrtu bomo zakurili ogenj se posladkali s kakšno penico in spili čaj.   \n
URL:https://kricekrace.com/dogodek/preseren-dan-v-kracah/
LOCATION:Krice Krace hiša\, Tomšičeva Ulica 14\, Kranj
ATTACH;FMTTYPE=image/jpeg:https://kricekrace.com/wp-content/uploads/2026/01/Preseren-dan-scaled-e1769342874781.jpg
ORGANIZER;CN="Zveza%20ustvarjalnih%20dru%C5%A1tev%20Kranj":MAILTO:kricekrace@t-2.net
END:VEVENT
END:VCALENDAR