BEGIN:VCALENDAR
VERSION:2.0
PRODID:-//Krice Krace - ECPv4.7.4//NONSGML v1.0//EN
CALSCALE:GREGORIAN
METHOD:PUBLISH
X-WR-CALNAME:Krice Krace
X-ORIGINAL-URL:https://kricekrace.com
X-WR-CALDESC:Events for Krice Krace
BEGIN:VEVENT
DTSTART;TZID=UTC+1:20260206T183000
DTEND;TZID=UTC+1:20260206T190000
DTSTAMP:20260424T205849
CREATED:20260125T120352Z
LAST-MODIFIED:20260125T193418Z
UID:4204-1770402600-1770404400@kricekrace.com
SUMMARY:PROMO!\, odprtje razstave plakatov Andreja Štularja
DESCRIPTION:Plakat kot sredstvo vizualnega komuniciranja v tiskani obliki je še vedno doma tudi v Krice krace hiši\, še posebej\, ker je med nami avtor z izvirno likovno govorico. Na ogled bodo avtorski plakati\, ki jih za sobotne matineje in program v naši hiši mesečno pripravlja Andrej Štular\, skupaj z grafično podporo Aleše Unk in Ksenije Ponikvar\, že 17 let.\nPosebnost plakatov so »sezonske zgodbe«\, ki so tematsko in likovno povezane. Razstava bo na ogled do konca marca.  \n
URL:https://kricekrace.com/dogodek/promo-odprtje-razstave-plakatov-andreja-stularja/
LOCATION:Krice Krace hiša\, Tomšičeva Ulica 14\, Kranj
ATTACH;FMTTYPE=image/jpeg:https://kricekrace.com/wp-content/uploads/2026/01/Plakat-A.-Stular-e1769342619178.jpg
ORGANIZER;CN="Zveza%20ustvarjalnih%20dru%C5%A1tev%20Kranj":MAILTO:kricekrace@t-2.net
END:VEVENT
END:VCALENDAR