BEGIN:VCALENDAR
VERSION:2.0
PRODID:-//Krice Krace - ECPv4.7.4//NONSGML v1.0//EN
CALSCALE:GREGORIAN
METHOD:PUBLISH
X-WR-CALNAME:Krice Krace
X-ORIGINAL-URL:https://kricekrace.com
X-WR-CALDESC:Events for Krice Krace
BEGIN:VEVENT
DTSTART;TZID=UTC+1:20260327T173000
DTEND;TZID=UTC+1:20260327T181000
DTSTAMP:20260424T192128
CREATED:20260302T140705Z
LAST-MODIFIED:20260302T140705Z
UID:4239-1774632600-1774635000@kricekrace.com
SUMMARY:TO JE ERNEST\, Lutkovno gledališče Nebo
DESCRIPTION:Avtorica: Mojca Osojnik – Priredba in dramatizacija: Mojca Osojnik in Andrej Adamek – Režija: Andrej Adamek – Likovna podoba: Mojca Osojnik in Andrej Štular – Glasba: Andrej Žibert –  Scenografija: Maja Peterlin in Andrej Štular – Oblikovanje luči: Danilo Pečar – Igra in animacija: Andrej Štular in Petra Stare – Produkcija: Forum Ljubljana & Cankarjev Dom\nTo je Ernest je topla pripoved o prijateljstvu med deklico Ano in mačkom Ernestom. Tega nekega dne najde Anin oče in ga povsem premočenega in prestrašenega prinese domov. Ana in Ernest takoj začutita medsebojno naklonjenost in postaneta nerazdružljiv par. V skupnih doživetjih spoznavata drug drugega\, svoje dobre lastnosti pa tudi slabosti. Predstava\, uprizorjena z več kot tridesetimi lutkami\, je kolaž prizorov iz njunega vsakdanjika.\nPredstava traja 35 minut\, primerna je za vse od 2. leta dalje.  \n
URL:https://kricekrace.com/dogodek/to-je-ernest-lutkovno-gledalisce-nebo/
LOCATION:Krice Krace hiša\, Tomšičeva Ulica 14\, Kranj
ATTACH;FMTTYPE=image/png:https://kricekrace.com/wp-content/uploads/2026/03/Ernest-1-e1772460417700.png
ORGANIZER;CN="Zveza%20ustvarjalnih%20dru%C5%A1tev%20Kranj":MAILTO:kricekrace@t-2.net
END:VEVENT
END:VCALENDAR