BEGIN:VCALENDAR
VERSION:2.0
PRODID:-//Krice Krace - ECPv4.7.4//NONSGML v1.0//EN
CALSCALE:GREGORIAN
METHOD:PUBLISH
X-WR-CALNAME:Krice Krace
X-ORIGINAL-URL:https://kricekrace.com
X-WR-CALDESC:Events for Krice Krace
BEGIN:VEVENT
DTSTART;TZID=UTC+1:20260124T100000
DTEND;TZID=UTC+1:20260124T104500
DTSTAMP:20260424T221814
CREATED:20251224T130034Z
LAST-MODIFIED:20251224T130034Z
UID:4162-1769248800-1769251500@kricekrace.com
SUMMARY:JAZ POČEPNEM\, TI POSKOČIŠ\, Zavod Godot
DESCRIPTION:Režija: Tadej Pišek – avtorska glasba: Marjan Peternel – besedilo zaključne pesmi: Anja Štefan – izdelava scenografije: Anže Bizjak\nIgrata: Mojca Špik in Tadej Pišek\nPrva otroška gledališka burleska pri nas z naslovom Jaz počepnem\, ti poskočiš je nastala po navdihu starih črno belih filmov\, ki so brez besed\, le z močnim igralskim izrazom in razigrano glasbo pripovedovali čudovite zgodbe in navduševali množice.\nDramski igralec Tadej Pišek in igralka ter plesalka Mojca Špik nas v zabavni gibalni predstavi (skoraj) brez besed\, le z gibom\, glasbo\, igro in lutkami odpeljeta na zabavno popotovanje do iskanja sreče in prijateljstva. Kako hudo je\, kadar človek ostane čisto sam. In kako lepo je\, ko ti nekdo ponudi roko\, da lahko po svetu vandraš v dvoje. Včasih pa se nam prijatelj skrije ali pa smo tako zatopljeni vase\, da ga ne vidimo\, četudi stoji tik pred nami …\nZgodbo je navdihnila istoimenska pesem pesnice in pisateljice Anje Štefan\, avtorsko glasbo pa je napisal priznani skladatelj Marjan Peternel.\nPredstava traja 35 minut\, primerna je za vse od 3. leta dalje.\nFotografija: Primož Klavs \n
URL:https://kricekrace.com/dogodek/jaz-pocepnem-ti-poskocis-zavod-godot/
LOCATION:Prešernovo gledališče Kranj\, Glavni trg 6\, Kranj\, 4000
ATTACH;FMTTYPE=image/png:https://kricekrace.com/wp-content/uploads/2025/12/Jaz-pocepnem1-Klavs-scaled-e1766581225662.png
ORGANIZER;CN="Zveza%20ustvarjalnih%20dru%C5%A1tev%20Kranj":MAILTO:kricekrace@t-2.net
END:VEVENT
BEGIN:VEVENT
DTSTART;TZID=UTC+1:20260124T110000
DTEND;TZID=UTC+1:20260124T123000
DTSTAMP:20260424T221814
CREATED:20251224T130850Z
LAST-MODIFIED:20251224T130850Z
UID:4173-1769252400-1769257800@kricekrace.com
SUMMARY:Eko pod zeleno smreko
DESCRIPTION:Pri ustvarjanju se v glavnem ukvarjamo z reciklažnim materialom\, namen je ozaveščati ljudi\, da se za ustvarjanje lahko porabi vse\, kar leži okrog nas. Otrokom vzgajamo odnos do narave\, njene zaščite\, varovanja njenih virov\, ustrezne obdelave naravnih materialov … Delavnice so brezplačne\,\nstarostno neomejene – mlajšim lahko pomagajo starši\, dedki\, babice\, večji lahko ustvarjajo sami s pomočjo mentorja. Za program skrbi Natalija Herlec.  \n
URL:https://kricekrace.com/dogodek/eko-pod-zeleno-smreko-16/
LOCATION:Krice Krace hiša\, Tomšičeva Ulica 14\, Kranj
ATTACH;FMTTYPE=image/jpeg:https://kricekrace.com/wp-content/uploads/2019/08/P7130004-e1594557939149.jpg
ORGANIZER;CN="Zveza%20ustvarjalnih%20dru%C5%A1tev%20Kranj":MAILTO:kricekrace@t-2.net
END:VEVENT
END:VCALENDAR