BEGIN:VCALENDAR
VERSION:2.0
PRODID:-//Krice Krace - ECPv4.7.4//NONSGML v1.0//EN
CALSCALE:GREGORIAN
METHOD:PUBLISH
X-WR-CALNAME:Krice Krace
X-ORIGINAL-URL:https://kricekrace.com
X-WR-CALDESC:Events for Krice Krace
BEGIN:VEVENT
DTSTART;TZID=UTC+1:20260221T100000
DTEND;TZID=UTC+1:20260221T110000
DTSTAMP:20260424T205000
CREATED:20260125T114453Z
LAST-MODIFIED:20260125T114453Z
UID:4198-1771668000-1771671600@kricekrace.com
SUMMARY:MINIZAVER IN DINO\, Lutkovno gledališče Ljubljana
DESCRIPTION:Sobotna matineja\, že 32. sezona.\nAvtor besedila: Jure Karas – Režiser: Jaka Ivanc – Avtor likovne podobe: Natan Esku – Scenografi: Natan Esku\, Jaka Ivanc\, Žiga Lebar – Avtor glasbe in songov: Jure Karas – Izdelava lutk\, scene\, rekvizitov: David Klemenčič\, Žiga Lebar\, Janez Pečarič\, Iztok Bobić\, Sandra Birjukov\, Marjeta Valjavec\, Zala Kalan\, Olga Milić\, Lorena Bukovec\, Laura Krajnc\, Uroš Mehle\nIgrajo: Iztok Lužar\, Zala Ana Štiglic\, Brane Vižintin\nKoprodukcija z Gledališčem Koper\nMinizaver in Dino sta najboljša prijatelja\, samooklicana dinozavra\, ter najbolj barvasti in simpatični bitji\, kar jih je videl svet – in najraje od vsega prepevata pesmi in modrujeta o življenju. Spremljamo ju na njunem popotovanju\, na katerem iščeta odgovore na bistvena vprašanja človeštva in minizavrov po tretjem letu starosti: Kaj je to? Kaj tisto tam? Zakaj je sonce? Kako je nastal svet? Ali ribe spijo? Zakaj se kamni kotalijo? Kaj pomeni “hov”? In zakaj je zvečer vedno treba domov? Pa tudi – vsakič spet in znova – kaj\, kako\, zakaj?\nNa naš velik oder se po uspešnicah Zverjasec\, Zverjašček\, Bi se gnetli na tej metli in Najprisrčnejši velikan vrača Jaka Ivanc\, tokrat s svežim avtorskim besedilom Jureta Karasa. Besedilo\, prežeto s hudomušnostjo in toplino\, slovenskem pravljičnemu svetu predstavlja dva nova izvirna junaka\, ki bosta s svojo domišljijo\, pogumom in nepredvidljivimi prigodami navdušila tako najmlajše kot tudi njihove starše.\nPredstava traja 30 minut\, primerna je za vse od 3. leta dalje.\nFoto: Darja Štravs Tisu \n
URL:https://kricekrace.com/dogodek/minizaver-in-dino-lutkovno-gledalisce-ljubljana/
LOCATION:Prešernovo gledališče Kranj\, Glavni trg 6\, Kranj\, 4000
ATTACH;FMTTYPE=image/png:https://kricekrace.com/wp-content/uploads/2026/01/Minizaver-in-Dino-scaled-e1769341407282.png
ORGANIZER;CN="Zveza%20ustvarjalnih%20dru%C5%A1tev%20Kranj":MAILTO:kricekrace@t-2.net
END:VEVENT
BEGIN:VEVENT
DTSTART;TZID=UTC+1:20260221T110000
DTEND;TZID=UTC+1:20260221T123000
DTSTAMP:20260424T205000
CREATED:20260125T121409Z
LAST-MODIFIED:20260125T121409Z
UID:4214-1771671600-1771677000@kricekrace.com
SUMMARY:EKO POD ZELENO SMREKO\, ustvarjalna delavnica
DESCRIPTION:Pri ustvarjanju se v glavnem ukvarjamo z reciklažnim materialom\, namen je ozaveščati ljudi\, da se za ustvarjanje lahko porabi vse\, kar leži okrog nas. Otrokom vzgajamo odnos do narave\, njene zaščite\, varovanja njenih virov\, ustrezne obdelave naravnih materialov … Delavnice so brezplačne\,\nstarostno neomejene – mlajšim lahko pomagajo starši\, dedki\, babice\, večji lahko ustvarjajo sami s pomočjo mentorja. Za program skrbi Natalija Herlec in Mica Hribar.  \n
URL:https://kricekrace.com/dogodek/eko-pod-zeleno-smreko-ustvarjalna-delavnica-3/
LOCATION:Krice Krace hiša\, Tomšičeva Ulica 14\, Kranj
ATTACH;FMTTYPE=image/jpeg:https://kricekrace.com/wp-content/uploads/2021/09/1621680250464-e1632671826156.jpg
ORGANIZER;CN="Zveza%20ustvarjalnih%20dru%C5%A1tev%20Kranj":MAILTO:kricekrace@t-2.net
END:VEVENT
END:VCALENDAR