BEGIN:VCALENDAR
VERSION:2.0
PRODID:-//Krice Krace - ECPv4.7.4//NONSGML v1.0//EN
CALSCALE:GREGORIAN
METHOD:PUBLISH
X-WR-CALNAME:Krice Krace
X-ORIGINAL-URL:https://kricekrace.com
X-WR-CALDESC:Events for Krice Krace
BEGIN:VEVENT
DTSTART;TZID=UTC+1:20260307T100000
DTEND;TZID=UTC+1:20260307T104500
DTSTAMP:20260424T191131
CREATED:20260302T133245Z
LAST-MODIFIED:20260302T140748Z
UID:4226-1772877600-1772880300@kricekrace.com
SUMMARY:GREVA V MESTO\, Šentjakobsko gledališče
DESCRIPTION:Avtorica besedila in songov: Tina Ješe\nRežiser\, avtor glasbe\, odrska priredba besedila in vse ostalo: Tomaž Urgl – Glasbeni aranžma: Tomaž Urgl\, Luka Beljan\, Žan Beljan – Kostumografinja: Helena Hafner – Scenograf: Drago Leskovar – Oblikovanje maske in frizur: Incognito design\nIgrajo: Petja Rozman \, Pia Fabijan\, Tim Delač Hrovatin\, Timotej Kresnik\nSrakica in Sova sta dobri prijateljici. S svojo pesmijo sta osvojila srca mnogih malih in velikih otrok. Odločita se\, da glas poneseta dlje zato se iz gozda odpravita v mesto polni pričakovanj. Pot jima kmalu prekriža mestni Papapagaj in pokvari njuno vzdušje. Stari Golob se zaman trudi\, da bi med ptički prebudil spoštovanje. A dobro\, da je neurje prineslo v mesto čarobno pero. Če želite doživeti čarovnijo se jim pridružite v mestnem parku.\nPredstava traja 30 minut\, primerna za vse od 3. leta dalje.\nFoto: Aleš Košir \n
URL:https://kricekrace.com/dogodek/greva-v-mesto-sentjakobsko-gledalisce/
LOCATION:Prešernovo gledališče Kranj\, Glavni trg 6\, Kranj\, 4000
ATTACH;FMTTYPE=image/png:https://kricekrace.com/wp-content/uploads/2026/03/Gremo-v-mesto-Sentakob-e1772458356306.png
ORGANIZER;CN="Zveza%20ustvarjalnih%20dru%C5%A1tev%20Kranj":MAILTO:kricekrace@t-2.net
END:VEVENT
BEGIN:VEVENT
DTSTART;TZID=UTC+1:20260307T110000
DTEND;TZID=UTC+1:20260307T123000
DTSTAMP:20260424T191131
CREATED:20260302T141222Z
LAST-MODIFIED:20260302T141222Z
UID:4242-1772881200-1772886600@kricekrace.com
SUMMARY:Eko pod zeleno smreko
DESCRIPTION:Pri ustvarjanju se v glavnem ukvarjamo z reciklažnim materialom\, namen je ozaveščati ljudi\, da se za ustvarjanje lahko porabi vse\, kar leži okrog nas. Otrokom vzgajamo odnos do narave\, njene zaščite\, varovanja njenih virov\, ustrezne obdelave naravnih materialov … Delavnice so brezplačne\,\nstarostno neomejene – mlajšim lahko pomagajo starši\, dedki\, babice\, večji lahko ustvarjajo sami s pomočjo mentorja. Za program skrbi Natalija Herlec.  \n
URL:https://kricekrace.com/dogodek/eko-pod-zeleno-smreko/
LOCATION:Krice Krace hiša\, Tomšičeva Ulica 14\, Kranj
ATTACH;FMTTYPE=image/jpeg:https://kricekrace.com/wp-content/uploads/2026/03/20251122_115832-scaled-e1772460735642.jpg
ORGANIZER;CN="Zveza%20ustvarjalnih%20dru%C5%A1tev%20Kranj":MAILTO:kricekrace@t-2.net
END:VEVENT
END:VCALENDAR