BEGIN:VCALENDAR
VERSION:2.0
PRODID:-//Krice Krace - ECPv4.7.4//NONSGML v1.0//EN
CALSCALE:GREGORIAN
METHOD:PUBLISH
X-WR-CALNAME:Krice Krace
X-ORIGINAL-URL:https://kricekrace.com
X-WR-CALDESC:Events for Krice Krace
BEGIN:VEVENT
DTSTART;TZID=UTC+1:20260313T173000
DTEND;TZID=UTC+1:20260313T180000
DTSTAMP:20260424T191208
CREATED:20260302T134525Z
LAST-MODIFIED:20260302T134525Z
UID:4232-1773423000-1773424800@kricekrace.com
SUMMARY:MUCA COPATARICA\, Lutkovno gledališče Fru Fru
DESCRIPTION:Zgodba: Ela Peroci – Priredba in režija: Irena Rajh – Oblikovanje in izdelava lutk: Marina Hrovatin – Scenografija: Irena Mrhar – Glasbena spremljava: Anže Virant / alt. Jur Kunaver\nIgra in animacija: Irena Rajh /alt. Ana Špik\, Jakin\nPriljubljena pravljica o muci\, ki nerednim otrokom odnese copate. Otroci sklenejo poiskati mucin dom in svoje copatke. V gozdu pa srečajo mnogo živali\, ki muco tudi poznajo. S skupnimi močmi najdejo njeno hišico. Kdo ve\, ali bo muca otrokom vrnila njihove copatke …?\nLutkovna pravljica je pripovedovana z lutkami\, ob živo izvajani glasbi in otroških pesmicah.\nPredstava traja 30 minut\, primerna za vse od 2. leta dalje.  \n
URL:https://kricekrace.com/dogodek/muca-copatarica-lutkovno-gledalisce-fru-fru/
LOCATION:Krice Krace hiša\, Tomšičeva Ulica 14\, Kranj
ATTACH;FMTTYPE=image/png:https://kricekrace.com/wp-content/uploads/2026/03/Muca-Copatarica-Fru-Fru-e1772459115611.png
ORGANIZER;CN="Zveza%20ustvarjalnih%20dru%C5%A1tev%20Kranj":MAILTO:kricekrace@t-2.net
END:VEVENT
END:VCALENDAR