BEGIN:VCALENDAR
VERSION:2.0
PRODID:-//Krice Krace - ECPv4.7.4//NONSGML v1.0//EN
CALSCALE:GREGORIAN
METHOD:PUBLISH
X-WR-CALNAME:Krice Krace
X-ORIGINAL-URL:https://kricekrace.com
X-WR-CALDESC:Events for Krice Krace
BEGIN:VEVENT
DTSTART;TZID=UTC+1:20260328T110000
DTEND;TZID=UTC+1:20260328T123000
DTSTAMP:20260424T191208
CREATED:20260302T141752Z
LAST-MODIFIED:20260302T141752Z
UID:4251-1774695600-1774701000@kricekrace.com
SUMMARY:Eko pod zeleno smreko
DESCRIPTION:Pri ustvarjanju se v glavnem ukvarjamo z reciklažnim materialom\, namen je ozaveščati ljudi\, da se za ustvarjanje lahko porabi vse\, kar leži okrog nas. Otrokom vzgajamo odnos do narave\, njene zaščite\, varovanja njenih virov\, ustrezne obdelave naravnih materialov … Delavnice so brezplačne\,\nstarostno neomejene – mlajšim lahko pomagajo starši\, dedki\, babice\, večji lahko ustvarjajo sami s pomočjo mentorja. Za program skrbi Natalija Herlec.  \n
URL:https://kricekrace.com/dogodek/eko-pod-zeleno-smreko-4/
LOCATION:Krice Krace hiša\, Tomšičeva Ulica 14\, Kranj
ATTACH;FMTTYPE=image/jpeg:https://kricekrace.com/wp-content/uploads/2026/03/1732361400019-scaled-e1772461063247.jpg
ORGANIZER;CN="Zveza%20ustvarjalnih%20dru%C5%A1tev%20Kranj":MAILTO:kricekrace@t-2.net
END:VEVENT
END:VCALENDAR