BEGIN:VCALENDAR
VERSION:2.0
PRODID:-//Krice Krace - ECPv4.7.4//NONSGML v1.0//EN
CALSCALE:GREGORIAN
METHOD:PUBLISH
X-WR-CALNAME:Krice Krace
X-ORIGINAL-URL:https://kricekrace.com
X-WR-CALDESC:Events for Krice Krace
BEGIN:VEVENT
DTSTART;TZID=UTC+1:20260418T100000
DTEND;TZID=UTC+1:20260418T105000
DTSTAMP:20260424T173759
CREATED:20260319T133702Z
LAST-MODIFIED:20260319T133702Z
UID:4262-1776506400-1776509400@kricekrace.com
SUMMARY:TAKE LJUDSKE\, Lutkovno gledališče Nebo
DESCRIPTION:Sobotna matineja\, 32. sezona.\nPriredba ljudske pravljice: Petra Stare  – Režija: Andrej Adamek – Likovna zasnova: Andrej Štular – Glasba: Peter Kus\nIgra in animacija: Andrej Štular\, Petra Stare\nProdukcija: Forum Ljubljana & Mini teater\nPredstava Take ljudske je preplet ljudske pripovedke Zajec dela za lisico ter pregovorov\, starih modrosti in ljudske zvočnosti. V predstavi se živali obnašajo kot ljudje – ene so delavne in vztrajne\, druge se delu raje izognejo\, a vselej poskrbijo\, da ga namesto njih opravi kdo drug. Kombinacija namiznih marionet in gledališča predmetov ustvarja preplet realnosti in sanjskih prizorov.\nPredstava traja 35 minut\, primerna je za vse od 3. leta dalje.  \n
URL:https://kricekrace.com/dogodek/take-ljudske-lutkovno-gledalisce-nebo/
LOCATION:Prešernovo gledališče Kranj\, Glavni trg 6\, Kranj\, 4000
ATTACH;FMTTYPE=image/png:https://kricekrace.com/wp-content/uploads/2026/03/Take-ljudske-Andrej-Stular-e1773927414962.png
ORGANIZER;CN="Zveza%20ustvarjalnih%20dru%C5%A1tev%20Kranj":MAILTO:kricekrace@t-2.net
END:VEVENT
BEGIN:VEVENT
DTSTART;TZID=UTC+1:20260418T110000
DTEND;TZID=UTC+1:20260418T123000
DTSTAMP:20260424T173759
CREATED:20260319T134846Z
LAST-MODIFIED:20260319T134846Z
UID:4272-1776510000-1776515400@kricekrace.com
SUMMARY:Eko pod zeleno smreko
DESCRIPTION:Pri ustvarjanju se v glavnem ukvarjamo z reciklažnim materialom\, namen je ozaveščati ljudi\, da se za ustvarjanje lahko porabi vse\, kar leži okrog nas. Otrokom vzgajamo odnos do narave\, njene zaščite\, varovanja njenih virov\, ustrezne obdelave naravnih materialov … Delavnice so brezplačne\,\nstarostno neomejene – mlajšim lahko pomagajo starši\, dedki\, babice\, večji lahko ustvarjajo sami s pomočjo mentorja. Za program skrbi Natalija Herlec.\nDelavnice bodo: 4.\, 11.\, 18.\, 25. aprila.\nZ aprilom se delavnice zaključijo\, nadaljevali bomo v oktobru.  \n
URL:https://kricekrace.com/dogodek/eko-pod-zeleno-smreko-7/
LOCATION:Krice Krace hiša\, Tomšičeva Ulica 14\, Kranj
ATTACH;FMTTYPE=image/jpeg:https://kricekrace.com/wp-content/uploads/2024/10/IMG_20240226_091225-scaled-e1729771020256.jpg
ORGANIZER;CN="Zveza%20ustvarjalnih%20dru%C5%A1tev%20Kranj":MAILTO:kricekrace@t-2.net
END:VEVENT
END:VCALENDAR