BEGIN:VCALENDAR
VERSION:2.0
PRODID:-//Krice Krace - ECPv4.7.4//NONSGML v1.0//EN
CALSCALE:GREGORIAN
METHOD:PUBLISH
X-WR-CALNAME:Krice Krace
X-ORIGINAL-URL:https://kricekrace.com
X-WR-CALDESC:Events for Krice Krace
BEGIN:VEVENT
DTSTART;TZID=UTC+1:20260404T100000
DTEND;TZID=UTC+1:20260404T104500
DTSTAMP:20260424T133324
CREATED:20260319T133310Z
LAST-MODIFIED:20260319T133310Z
UID:4259-1775296800-1775299500@kricekrace.com
SUMMARY:OPIČJA UGANKA ali MAMICA\, KJE SI?\, Lutkovno gledališče Fru Fru
DESCRIPTION:Sobotne matineja\, 32. sezona.\nAvtorica zgodbe: Julia Donaldson\nPriredba in režija: Ajda Rooss in Irena Rajh – Prevod in besedilo pesmic: Milan Dekleva – Likovna podoba: Špela Trobec in Iztok Hrga – Glasba: Nino de Gleria – Oblikovanje luči: Anže Virant\nIgra in animacija: Irena Rajh in Ana Špik\nProdukcija: Hiša otrok in umetnosti in Lutkovno gledališče Fru Fru\nMala opica se izgubi in išče svojo mamico. Pri iskanju ji pomaga pisan metuljček. Pelje jo k slonu\, kači\, pajku\, žabi\, papigi in netopirju\, toda nobena od živali ni opičja mamica. “Saj mi nobena od živali ni podobna”\, joka mala opica. A tega metuljček ni vedel\, saj je bil prepričan\, da je pri opicah tako kot pri metuljih\, pri katerih njihovi otročički\, majhne kosmate gosenice\, niso prav nič podobni svojim pisanim letečim staršem. Mala opica pa je prav taka kot njena mamica in zdaj je ni več težko najti.\nPredstava ponuja odlično izhodišče za pogovor\, kaj se zgodi\, če se otrok izgubi\, in kako se iz gosenice razvije metulj.\nPredstava traja 30 minut\, primerna za vse od 2. leta dalje.  \n
URL:https://kricekrace.com/dogodek/opicja-uganka-ali-mamica-kje-si-lutkovno-gledalisce-fru-fru/
LOCATION:Prešernovo gledališče Kranj\, Glavni trg 6\, Kranj\, 4000
ATTACH;FMTTYPE=image/png:https://kricekrace.com/wp-content/uploads/2026/03/Opicja-uganka-e1773927177236.png
ORGANIZER;CN="Zveza%20ustvarjalnih%20dru%C5%A1tev%20Kranj":MAILTO:kricekrace@t-2.net
END:VEVENT
BEGIN:VEVENT
DTSTART;TZID=UTC+1:20260404T110000
DTEND;TZID=UTC+1:20260404T123000
DTSTAMP:20260424T133324
CREATED:20260319T134600Z
LAST-MODIFIED:20260319T134600Z
UID:4268-1775300400-1775305800@kricekrace.com
SUMMARY:Eko pod zeleno smreko
DESCRIPTION:Pri ustvarjanju se v glavnem ukvarjamo z reciklažnim materialom\, namen je ozaveščati ljudi\, da se za ustvarjanje lahko porabi vse\, kar leži okrog nas. Otrokom vzgajamo odnos do narave\, njene zaščite\, varovanja njenih virov\, ustrezne obdelave naravnih materialov … Delavnice so brezplačne\,\nstarostno neomejene – mlajšim lahko pomagajo starši\, dedki\, babice\, večji lahko ustvarjajo sami s pomočjo mentorja. Za program skrbi Natalija Herlec.\nDelavnice bodo: 4.\, 11.\, 18.\, 25. aprila.\nZ aprilom se delavnice zaključijo\, nadaljevali bomo v oktobru.  \n
URL:https://kricekrace.com/dogodek/eko-pod-zeleno-smreko-5/
LOCATION:Krice Krace hiša\, Tomšičeva Ulica 14\, Kranj
ATTACH;FMTTYPE=image/jpeg:https://kricekrace.com/wp-content/uploads/2026/03/1732361400019-scaled-e1772461063247.jpg
ORGANIZER;CN="Zveza%20ustvarjalnih%20dru%C5%A1tev%20Kranj":MAILTO:kricekrace@t-2.net
END:VEVENT
BEGIN:VEVENT
DTSTART;TZID=UTC+1:20260411T110000
DTEND;TZID=UTC+1:20260411T123000
DTSTAMP:20260424T133324
CREATED:20260319T134723Z
LAST-MODIFIED:20260319T134723Z
UID:4270-1775905200-1775910600@kricekrace.com
SUMMARY:Eko pod zeleno smreko
DESCRIPTION:Pri ustvarjanju se v glavnem ukvarjamo z reciklažnim materialom\, namen je ozaveščati ljudi\, da se za ustvarjanje lahko porabi vse\, kar leži okrog nas. Otrokom vzgajamo odnos do narave\, njene zaščite\, varovanja njenih virov\, ustrezne obdelave naravnih materialov … Delavnice so brezplačne\,\nstarostno neomejene – mlajšim lahko pomagajo starši\, dedki\, babice\, večji lahko ustvarjajo sami s pomočjo mentorja. Za program skrbi Natalija Herlec.\nDelavnice bodo: 4.\, 11.\, 18.\, 25. aprila.\nZ aprilom se delavnice zaključijo\, nadaljevali bomo v oktobru.  \n
URL:https://kricekrace.com/dogodek/eko-pod-zeleno-smreko-6/
LOCATION:Krice Krace hiša\, Tomšičeva Ulica 14\, Kranj
ATTACH;FMTTYPE=image/jpeg:https://kricekrace.com/wp-content/uploads/2026/03/20251122_115832-scaled-e1772460735642.jpg
ORGANIZER;CN="Zveza%20ustvarjalnih%20dru%C5%A1tev%20Kranj":MAILTO:kricekrace@t-2.net
END:VEVENT
BEGIN:VEVENT
DTSTART;TZID=UTC+1:20260418T100000
DTEND;TZID=UTC+1:20260418T105000
DTSTAMP:20260424T133324
CREATED:20260319T133702Z
LAST-MODIFIED:20260319T133702Z
UID:4262-1776506400-1776509400@kricekrace.com
SUMMARY:TAKE LJUDSKE\, Lutkovno gledališče Nebo
DESCRIPTION:Sobotna matineja\, 32. sezona.\nPriredba ljudske pravljice: Petra Stare  – Režija: Andrej Adamek – Likovna zasnova: Andrej Štular – Glasba: Peter Kus\nIgra in animacija: Andrej Štular\, Petra Stare\nProdukcija: Forum Ljubljana & Mini teater\nPredstava Take ljudske je preplet ljudske pripovedke Zajec dela za lisico ter pregovorov\, starih modrosti in ljudske zvočnosti. V predstavi se živali obnašajo kot ljudje – ene so delavne in vztrajne\, druge se delu raje izognejo\, a vselej poskrbijo\, da ga namesto njih opravi kdo drug. Kombinacija namiznih marionet in gledališča predmetov ustvarja preplet realnosti in sanjskih prizorov.\nPredstava traja 35 minut\, primerna je za vse od 3. leta dalje.  \n
URL:https://kricekrace.com/dogodek/take-ljudske-lutkovno-gledalisce-nebo/
LOCATION:Prešernovo gledališče Kranj\, Glavni trg 6\, Kranj\, 4000
ATTACH;FMTTYPE=image/png:https://kricekrace.com/wp-content/uploads/2026/03/Take-ljudske-Andrej-Stular-e1773927414962.png
ORGANIZER;CN="Zveza%20ustvarjalnih%20dru%C5%A1tev%20Kranj":MAILTO:kricekrace@t-2.net
END:VEVENT
BEGIN:VEVENT
DTSTART;TZID=UTC+1:20260418T110000
DTEND;TZID=UTC+1:20260418T123000
DTSTAMP:20260424T133324
CREATED:20260319T134846Z
LAST-MODIFIED:20260319T134846Z
UID:4272-1776510000-1776515400@kricekrace.com
SUMMARY:Eko pod zeleno smreko
DESCRIPTION:Pri ustvarjanju se v glavnem ukvarjamo z reciklažnim materialom\, namen je ozaveščati ljudi\, da se za ustvarjanje lahko porabi vse\, kar leži okrog nas. Otrokom vzgajamo odnos do narave\, njene zaščite\, varovanja njenih virov\, ustrezne obdelave naravnih materialov … Delavnice so brezplačne\,\nstarostno neomejene – mlajšim lahko pomagajo starši\, dedki\, babice\, večji lahko ustvarjajo sami s pomočjo mentorja. Za program skrbi Natalija Herlec.\nDelavnice bodo: 4.\, 11.\, 18.\, 25. aprila.\nZ aprilom se delavnice zaključijo\, nadaljevali bomo v oktobru.  \n
URL:https://kricekrace.com/dogodek/eko-pod-zeleno-smreko-7/
LOCATION:Krice Krace hiša\, Tomšičeva Ulica 14\, Kranj
ATTACH;FMTTYPE=image/jpeg:https://kricekrace.com/wp-content/uploads/2024/10/IMG_20240226_091225-scaled-e1729771020256.jpg
ORGANIZER;CN="Zveza%20ustvarjalnih%20dru%C5%A1tev%20Kranj":MAILTO:kricekrace@t-2.net
END:VEVENT
BEGIN:VEVENT
DTSTART;TZID=UTC+1:20260425T100000
DTEND;TZID=UTC+1:20260425T105000
DTSTAMP:20260424T133324
CREATED:20260319T134244Z
LAST-MODIFIED:20260319T134244Z
UID:4265-1777111200-1777114200@kricekrace.com
SUMMARY:O VRABČKU\, MIŠKI IN PALAČINKI\, Hiša otrok in umetnosti
DESCRIPTION:Sobotna matineja\, zadnja predstava 32. sezone.\nRežija: Katja Povše – Dramatizacija in dramaturgija: Anže Virant – Likovna podoba lutk: Adriano Janežič – Glasba: Samo Vovk – Scenografija in kostumografija: Iztok Hrga – Izdelava lutk in scenskih elementov: Žiga Lebar\, Iztok Hrga – Izdelava scene: Marjan Kunaver in Uroš Mehle s.p. – Svetovanje za odrski gib: Natalia Sultanova in Ravil Sultanov – Pomoč pri izdelavi scenografije: Alevtina Ainutdinova\nIgrata: Vanja Iva Kretič\, Mariia Filimonenko\nProdukcija: Hiša otrok in umetnosti in Zavod Bufeto\nV skupnem domu se zbere nevsakdanja druščina – Mišek Kosmati\, Vrabček Krilati in Palačinka Maslena. Sprva složno živijo\, saj vsak opravlja tisto delu\, ki mu gre najbolje od tačk in peruti. Vrabček leta po gozdu in nabira hrano\, Mišek s svojimi zobmi seka drva in kuri v peči\, Palačinka pa kuha najbolj slastno in mastno juho. A ko zamenjajo vsakdanje naloge\, pride do nesporazumov in težav… Bo njihovo prijateljstvo vzdržalo?\nPredstava združuje klasično naracijo ljudske pravljice in tradicionalno ročno lutkovno igro. Z igrivostjo in humorjem spregovori o sodelovanju\, delu in pomembnosti vsakega člana skupnosti. Namenjena je otrokom in družinam\, ki bodo ob njej hkrati uživali\, se nasmejali – in si mogoče še sami zaželeli palačink.\nPredstava traja 35 minut\, primerna je za vse od 3. leta dalje.  \n
URL:https://kricekrace.com/dogodek/o-vrabcku-miski-in-palacinki-hisa-otrok-in-umetnosti/
LOCATION:Prešernovo gledališče Kranj\, Glavni trg 6\, Kranj\, 4000
ATTACH;FMTTYPE=image/png:https://kricekrace.com/wp-content/uploads/2026/03/M.-Povse-miska-palacinka-e1773927698187.png
ORGANIZER;CN="Zveza%20ustvarjalnih%20dru%C5%A1tev%20Kranj":MAILTO:kricekrace@t-2.net
END:VEVENT
BEGIN:VEVENT
DTSTART;TZID=UTC+1:20260425T110000
DTEND;TZID=UTC+1:20260425T123000
DTSTAMP:20260424T133324
CREATED:20260319T135007Z
LAST-MODIFIED:20260319T135007Z
UID:4274-1777114800-1777120200@kricekrace.com
SUMMARY:Eko pod zeleno smreko
DESCRIPTION:Pri ustvarjanju se v glavnem ukvarjamo z reciklažnim materialom\, namen je ozaveščati ljudi\, da se za ustvarjanje lahko porabi vse\, kar leži okrog nas. Otrokom vzgajamo odnos do narave\, njene zaščite\, varovanja njenih virov\, ustrezne obdelave naravnih materialov … Delavnice so brezplačne\,\nstarostno neomejene – mlajšim lahko pomagajo starši\, dedki\, babice\, večji lahko ustvarjajo sami s pomočjo mentorja. Za program skrbi Natalija Herlec.\nDelavnice bodo: 4.\, 11.\, 18.\, 25. aprila.\nZ aprilom se delavnice zaključijo\, nadaljevali bomo v oktobru.  \n
URL:https://kricekrace.com/dogodek/eko-pod-zeleno-smreko-8/
LOCATION:Krice Krace hiša\, Tomšičeva Ulica 14\, Kranj
ATTACH;FMTTYPE=image/jpeg:https://kricekrace.com/wp-content/uploads/2026/03/20260116_194233-scaled-e1772460940856.jpg
ORGANIZER;CN="Zveza%20ustvarjalnih%20dru%C5%A1tev%20Kranj":MAILTO:kricekrace@t-2.net
END:VEVENT
END:VCALENDAR